BEGIN:VCALENDAR
VERSION:2.0
PRODID:-//SCALE Community Solutions - ECPv6.14.2//NONSGML v1.0//EN
CALSCALE:GREGORIAN
METHOD:PUBLISH
X-WR-CALNAME:SCALE Community Solutions
X-ORIGINAL-URL:https://www.scale-community.com
X-WR-CALDESC:Events for SCALE Community Solutions
REFRESH-INTERVAL;VALUE=DURATION:PT1H
X-Robots-Tag:noindex
X-PUBLISHED-TTL:PT1H
BEGIN:VTIMEZONE
TZID:UTC
BEGIN:STANDARD
TZOFFSETFROM:+0000
TZOFFSETTO:+0000
TZNAME:UTC
DTSTART:20210101T000000
END:STANDARD
END:VTIMEZONE
BEGIN:VEVENT
DTSTART;TZID=UTC:20210309T180000
DTEND;TZID=UTC:20210309T180000
DTSTAMP:20260422T142925
CREATED:20230220T082348Z
LAST-MODIFIED:20230220T082455Z
UID:26770-1615312800-1615312800@www.scale-community.com
SUMMARY:Challenges And Opportunities For Hospitals In 2021
DESCRIPTION:Join SCALE and our panel of experts for a discussion about the challenges and opportunites hospital systems face in 2021.  \n\n\n\n\n\nSCALE’s Co-Founder & CEO\, Roy Bejarano\, will moderate the discussion with Chief Advisors Michael Bradley\, Mark Newton\, Terry O’Brien\, and Keith Safian on Tuesday\, March 9 at 6:00 PM (EST).  Discussion topics will include: \nFor more information and to register\, please click here.
URL:https://www.scale-community.com/e/challenges-and-opportunities-for-hospitals-in-2021/
CATEGORIES:Webinar
ATTACH;FMTTYPE=image/png:https://www.scale-community.com/wp-content/uploads/2023/02/Hospital-Webinar-Blog-Hero.png
END:VEVENT
END:VCALENDAR