BEGIN:VCALENDAR
VERSION:2.0
PRODID:-//SCALE Community Solutions - ECPv6.14.2//NONSGML v1.0//EN
CALSCALE:GREGORIAN
METHOD:PUBLISH
X-WR-CALNAME:SCALE Community Solutions
X-ORIGINAL-URL:https://www.scale-community.com
X-WR-CALDESC:Events for SCALE Community Solutions
REFRESH-INTERVAL;VALUE=DURATION:PT1H
X-Robots-Tag:noindex
X-PUBLISHED-TTL:PT1H
BEGIN:VTIMEZONE
TZID:UTC
BEGIN:STANDARD
TZOFFSETFROM:+0000
TZOFFSETTO:+0000
TZNAME:UTC
DTSTART:20210101T000000
END:STANDARD
END:VTIMEZONE
BEGIN:VEVENT
DTSTART;TZID=UTC:20210112T180000
DTEND;TZID=UTC:20210112T180000
DTSTAMP:20260422T174826
CREATED:20230220T082839Z
LAST-MODIFIED:20230220T083356Z
UID:26774-1610474400-1610474400@www.scale-community.com
SUMMARY:Webinar Replay: SCALE Forecast For 2021
DESCRIPTION:SCALE shares their predictions for 2021 based on our recently published whitepaper. Download your copy here.\n\n\n\n\n\nThe replay of panel discussion with SCALE’s CEO and healthcare management leaders Tracy Bahl\, Katherine Carlon\, David Friend\, and Andrew Mintz as \nis available to SCALE Education Content and Leadership Circle members. \nTo learn more about our membership levels please visit SCALE Education’s home page or contact us. \n\n\nThis webinar was hosted on January 12\, 2021 at 06:00 PM Eastern Time.  Please contact Susan Silhan for a copy of the slide deck presented here.
URL:https://www.scale-community.com/e/webinar-replay-scale-forecast-for-2021/
CATEGORIES:Webinar
ATTACH;FMTTYPE=image/png:https://www.scale-community.com/wp-content/uploads/2023/02/Webinar-Replay-Banner-1.png
END:VEVENT
END:VCALENDAR