BEGIN:VCALENDAR
VERSION:2.0
PRODID:-//SCALE Community Solutions - ECPv6.14.2//NONSGML v1.0//EN
CALSCALE:GREGORIAN
METHOD:PUBLISH
X-WR-CALNAME:SCALE Community Solutions
X-ORIGINAL-URL:https://www.scale-community.com
X-WR-CALDESC:Events for SCALE Community Solutions
REFRESH-INTERVAL;VALUE=DURATION:PT1H
X-Robots-Tag:noindex
X-PUBLISHED-TTL:PT1H
BEGIN:VTIMEZONE
TZID:Pacific/Easter
BEGIN:STANDARD
TZOFFSETFROM:-0500
TZOFFSETTO:-0600
TZNAME:-06
DTSTART:20250406T030000
END:STANDARD
BEGIN:DAYLIGHT
TZOFFSETFROM:-0600
TZOFFSETTO:-0500
TZNAME:-05
DTSTART:20250907T040000
END:DAYLIGHT
END:VTIMEZONE
BEGIN:VEVENT
DTSTART;TZID=Pacific/Easter:20250603T163000
DTEND;TZID=Pacific/Easter:20250603T173000
DTSTAMP:20260420T113012
CREATED:20250122T120015Z
LAST-MODIFIED:20250122T131945Z
UID:70479-1748968200-1748971800@www.scale-community.com
SUMMARY:Video Meeting
DESCRIPTION:A mid-year check-in to reflect on our growth and the challenges we’ve overcome. Join us for an engaging discussion with industry leaders and peers to inspire continued professional development.
URL:https://www.scale-community.com/e/video-meeting-3/
CATEGORIES:Video meeting
END:VEVENT
END:VCALENDAR