BEGIN:VCALENDAR
VERSION:2.0
PRODID:-//SCALE Community Solutions - ECPv6.14.2//NONSGML v1.0//EN
CALSCALE:GREGORIAN
METHOD:PUBLISH
X-WR-CALNAME:SCALE Community Solutions
X-ORIGINAL-URL:https://www.scale-community.com
X-WR-CALDESC:Events for SCALE Community Solutions
REFRESH-INTERVAL;VALUE=DURATION:PT1H
X-Robots-Tag:noindex
X-PUBLISHED-TTL:PT1H
BEGIN:VTIMEZONE
TZID:Pacific/Easter
BEGIN:STANDARD
TZOFFSETFROM:-0500
TZOFFSETTO:-0600
TZNAME:-06
DTSTART:20250406T030000
END:STANDARD
BEGIN:DAYLIGHT
TZOFFSETFROM:-0600
TZOFFSETTO:-0500
TZNAME:-05
DTSTART:20250907T040000
END:DAYLIGHT
END:VTIMEZONE
BEGIN:VEVENT
DTSTART;TZID=Pacific/Easter:20250204T163000
DTEND;TZID=Pacific/Easter:20250204T173000
DTSTAMP:20260420T162306
CREATED:20250122T112319Z
LAST-MODIFIED:20250122T132237Z
UID:70474-1738686600-1738690200@www.scale-community.com
SUMMARY:Video meeting
DESCRIPTION:Join us for the first video meeting of the year! Connect with fellow women professionals in the MSO and PPM industries\, share insights\, and discuss strategies for success.
URL:https://www.scale-community.com/e/video-meeting/
CATEGORIES:Video meeting
END:VEVENT
END:VCALENDAR